BEGIN:VCALENDAR
VERSION:2.0
CALSCALE:GREGORIAN
PRODID:adamgibbons/ics
METHOD:PUBLISH
X-PUBLISHED-TTL:PT1H
BEGIN:VEVENT
UID:13240@do.basspistol.org
SUMMARY:Encuentro preparación #15años15M
DTSTAMP:20260424T194710Z
DTSTART:20260426T090000Z
DTEND:20260426T153000Z
URL:https://do.basspistol.org/event/encuentro-preparacion-15anos15m
GEO:40.4107691;-3.7001204
LOCATION:CSA  Tres Peces Tres - Calle Tres Peces 3
STATUS:CONFIRMED
CATEGORIES:#15años15M,3peces3,Asamblea,Comida,Madrid,fotografia
END:VEVENT
END:VCALENDAR
