BEGIN:VCALENDAR
VERSION:2.0
CALSCALE:GREGORIAN
PRODID:adamgibbons/ics
METHOD:PUBLISH
X-PUBLISHED-TTL:PT1H
BEGIN:VEVENT
UID:13231@do.basspistol.org
SUMMARY:Autrem el desnonament de l'Ani!
DTSTAMP:20260424T155845Z
DTSTART:20260428T070000Z
DTEND:20260428T133000Z
URL:https://do.basspistol.org/event/autrem-el-desnonament-de-lani
GEO:41.4350976;2.1903885
LOCATION:Carrer d'Otger\, 11 - Carrer d'Otger\, 11\, Sant Andreu de Palomar
	\, Sant Andreu\, Barcelona\, Barcelonès\, Barcelona\, Catalunya\, 08030\, 
	España
STATUS:CONFIRMED
CATEGORIES:Bon Pastor,BonPastor,SantAndreuDelPalomar,Sindicat d’Habitatge d
	e Sant Andreu,SindicatHabitatge,desnonament
END:VEVENT
END:VCALENDAR
