BEGIN:VCALENDAR
VERSION:2.0
CALSCALE:GREGORIAN
PRODID:adamgibbons/ics
METHOD:PUBLISH
X-PUBLISHED-TTL:PT1H
BEGIN:VEVENT
UID:12455@do.basspistol.org
SUMMARY:MANIFESTACIÓ UNITARIA 1r DE MAIG 2026\, 11:30 h.\, PLAÇA D'ESPANYA 
	DE PALMA. - YANKEES\, TORNEU A CASA! DEXEU-NOS EN PAU -
DTSTAMP:20260426T002558Z
DTSTART:20260501T093000Z
URL:https://do.basspistol.org/event/manifestacio-unitaria-1r-de-maig-2026-1
	130-h-placa-despanya-de-palma-yankees-torneu-a-casa-dexeu-nos-en-pau-
GEO:39.5757352;2.6539309
LOCATION:Plaça d'Espanya - Plaça d'Espanya\, Canavall\, Palma\, Illes Balea
	rs\, 07002\, España
STATUS:CONFIRMED
CATEGORIES:#mallorca,CNT,Palma,cgt,manifestació
END:VEVENT
BEGIN:VEVENT
UID:12515@do.basspistol.org
SUMMARY:CONCERT SINDICAL DE LA CNT\, 1r de maig 2026
DTSTAMP:20260426T002558Z
DTSTART:20260501T143000Z
DTEND:20260501T210000Z
URL:https://do.basspistol.org/event/concert-sindical-de-la-cnt-1r-de-maig-2
	026
LOCATION:Ses Voltes - Passeig Dalt Murada\,1A 07001 Palma (Illes Balears)
STATUS:CONFIRMED
CATEGORIES:#mallorca,1 de Maig,CNT,Palma,concerts
END:VEVENT
END:VCALENDAR
