BEGIN:VCALENDAR
VERSION:2.0
CALSCALE:GREGORIAN
PRODID:adamgibbons/ics
METHOD:PUBLISH
X-PUBLISHED-TTL:PT1H
BEGIN:VEVENT
UID:13102@do.basspistol.org
SUMMARY:Critical Mass
DTSTAMP:20260421T054018Z
DTSTART:20260424T163000Z
URL:https://do.basspistol.org/event/critical-mass
LOCATION:Piazza Galvani - Piazza Galvani
STATUS:CONFIRMED
CATEGORIES:CM,Ciemmona2026Livorno
END:VEVENT
END:VCALENDAR
