BEGIN:VCALENDAR
VERSION:2.0
CALSCALE:GREGORIAN
PRODID:adamgibbons/ics
METHOD:PUBLISH
X-PUBLISHED-TTL:PT1H
BEGIN:VEVENT
UID:12315@do.basspistol.org
SUMMARY:Pouzza Fest 2026: General Chaos + Francsbâtards + Ska Sound System 
	+ The Creepshow + Bedouin Soundclash + The Planet Smashers
DTSTAMP:20260421T053926Z
DTSTART:20260515T210000Z
DTEND:20260516T144000Z
URL:https://do.basspistol.org/event/pouzza-fest-2026-general-chaos-francsba
	tards-ska-sound-system-the-creepshow-bedouin-soundclash-the-planet-smasher
	s
LOCATION:Esplanade tranquille du Quartier des spectacles - 1403 Clark
STATUS:CONFIRMED
CATEGORIES:Bedouin Soundsystem,Francsbâtards,GENERAL CHAOS,The Planet Smash
	ers,The creepshow,pouzza fest,ska sound system
END:VEVENT
END:VCALENDAR
