BEGIN:VCALENDAR
VERSION:2.0
CALSCALE:GREGORIAN
PRODID:adamgibbons/ics
METHOD:PUBLISH
X-PUBLISHED-TTL:PT1H
BEGIN:VEVENT
UID:12972@do.basspistol.org
SUMMARY:iWant2BeOnTV Fundraiser Show: INFO COMING SOON
DTSTAMP:20260421T102301Z
DTSTART:20260516T230000Z
DTEND:20260517T040000Z
URL:https://do.basspistol.org/event/iwant2beontv-fundraiser-show-info-comin
	g-soon
LOCATION:Casa Del Popolo - 4873 St Laurent
STATUS:CONFIRMED
CATEGORIES:Fundraiser,iw2botv,iwant2beontv,punk,theatre?,video,visual art
END:VEVENT
END:VCALENDAR
