BEGIN:VCALENDAR
VERSION:2.0
CALSCALE:GREGORIAN
PRODID:adamgibbons/ics
METHOD:PUBLISH
X-PUBLISHED-TTL:PT1H
BEGIN:VEVENT
UID:12878@do.basspistol.org
SUMMARY:Yoga Molón
DTSTAMP:20260421T035752Z
DTSTART:20260421T160000Z
DTEND:20260421T170000Z
URL:https://do.basspistol.org/event/yoga-molon
GEO:40.3906518;-3.6657487
LOCATION:La Horizontal - Calle Eduardo Requenas\, nº10\, San Diego\, Puente
	 de Vallecas\, Madrid\, Área metropolitana de Madrid y Corredor del Henare
	s\, Comunidad de Madrid\, 28053\, España
STATUS:CONFIRMED
CATEGORIES:Madrid
END:VEVENT
BEGIN:VEVENT
UID:12465@do.basspistol.org
SUMMARY:Renta Básica Universal e  Incondicional
DTSTAMP:20260421T035752Z
DTSTART:20260421T163000Z
DTEND:20260421T183000Z
URL:https://do.basspistol.org/event/renta-basica-universal-e-incondicional
LOCATION:Teatro del Barrio - Calle Zurita 20
STATUS:CONFIRMED
CATEGORIES:Madrid,RBUI,RENTA BÁSICA UNIVERSAL
END:VEVENT
BEGIN:VEVENT
UID:12297@do.basspistol.org
SUMMARY:Curso de Autodefensa Digital
DTSTAMP:20260421T035752Z
DTSTART:20260421T170000Z
URL:https://do.basspistol.org/event/curso-de-autodefensa-digital
GEO:40.40945;-3.70965
LOCATION:CSO La Rosa - Calle Bastero 1
STATUS:CONFIRMED
CATEGORIES:Autodefensa digital,CSOLaRosa,Curso,Madrid,Privacidad,Teknokasa,
	autodefensa
END:VEVENT
BEGIN:VEVENT
UID:13029@do.basspistol.org
SUMMARY:Iniciación al Tai-Chi Zen
DTSTAMP:20260421T035752Z
DTSTART:20260421T170000Z
DTEND:20260421T180000Z
URL:https://do.basspistol.org/event/iniciacion-al-tai-chi-zen
GEO:40.40945;-3.70965
LOCATION:CSO La Rosa - Calle Bastero 1
STATUS:CONFIRMED
CATEGORIES:Madrid
END:VEVENT
BEGIN:VEVENT
UID:12879@do.basspistol.org
SUMMARY:Teatro
DTSTAMP:20260421T035752Z
DTSTART:20260421T180000Z
DTEND:20260421T200000Z
URL:https://do.basspistol.org/event/teatro-1
GEO:40.3906518;-3.6657487
LOCATION:La Horizontal - Calle Eduardo Requenas\, nº10\, San Diego\, Puente
	 de Vallecas\, Madrid\, Área metropolitana de Madrid y Corredor del Henare
	s\, Comunidad de Madrid\, 28053\, España
STATUS:CONFIRMED
CATEGORIES:Madrid
END:VEVENT
BEGIN:VEVENT
UID:12880@do.basspistol.org
SUMMARY:Espacio de acompañamiento vecinal para personas migrantes
DTSTAMP:20260421T035752Z
DTSTART:20260421T183000Z
DTEND:20260421T193000Z
URL:https://do.basspistol.org/event/espacio-de-acompanamiento-vecinal-para-
	personas-migrantes-1
GEO:40.388732;-3.666717
LOCATION:La Villana de Vallekas - Calle Sierra de alquife 12
STATUS:CONFIRMED
CATEGORIES:Madrid
END:VEVENT
BEGIN:VEVENT
UID:12927@do.basspistol.org
SUMMARY:Bordando Juntites
DTSTAMP:20260421T035752Z
DTSTART:20260422T160000Z
DTEND:20260422T180000Z
URL:https://do.basspistol.org/event/bordando-juntites
GEO:40.40945;-3.70965
LOCATION:CSO La Rosa - Calle Bastero 1
STATUS:CONFIRMED
CATEGORIES:Madrid
END:VEVENT
BEGIN:VEVENT
UID:12929@do.basspistol.org
SUMMARY:Miércoles de Juegos de Mesa en La Rosa
DTSTAMP:20260421T035752Z
DTSTART:20260422T160000Z
DTEND:20260422T200000Z
URL:https://do.basspistol.org/event/miercoles-de-juegos-de-mesa-en-la-rosa
GEO:40.40945;-3.70965
LOCATION:CSO La Rosa - Calle Bastero 1
STATUS:CONFIRMED
CATEGORIES:Madrid
END:VEVENT
BEGIN:VEVENT
UID:12932@do.basspistol.org
SUMMARY:Asamblea PAH Vallekas
DTSTAMP:20260421T035752Z
DTSTART:20260422T163000Z
URL:https://do.basspistol.org/event/asamblea-pah-vallekas
GEO:40.388732;-3.666717
LOCATION:La Villana de Vallekas - Calle Sierra de alquife 12
STATUS:CONFIRMED
CATEGORIES:Madrid
END:VEVENT
BEGIN:VEVENT
UID:12930@do.basspistol.org
SUMMARY:TALLERES MOVIMIENTO VITAL EXPRESIVO
DTSTAMP:20260421T035752Z
DTSTART:20260422T164500Z
DTEND:20260422T180000Z
URL:https://do.basspistol.org/event/talleres-movimiento-vital-expresivo
GEO:40.40945;-3.70965
LOCATION:CSO La Rosa - Calle Bastero 1
STATUS:CONFIRMED
CATEGORIES:Madrid
END:VEVENT
BEGIN:VEVENT
UID:12926@do.basspistol.org
SUMMARY:Taller abierto “El Keller”
DTSTAMP:20260421T035752Z
DTSTART:20260422T170000Z
DTEND:20260422T200000Z
URL:https://do.basspistol.org/event/taller-abierto-el-keller
GEO:40.40945;-3.70965
LOCATION:CSO La Rosa - Calle Bastero 1
STATUS:CONFIRMED
CATEGORIES:Madrid
END:VEVENT
BEGIN:VEVENT
UID:12928@do.basspistol.org
SUMMARY:Clown
DTSTAMP:20260421T035752Z
DTSTART:20260422T170000Z
DTEND:20260422T193000Z
URL:https://do.basspistol.org/event/clown
GEO:40.3906518;-3.6657487
LOCATION:La Horizontal - Calle Eduardo Requenas\, nº10\, San Diego\, Puente
	 de Vallecas\, Madrid\, Área metropolitana de Madrid y Corredor del Henare
	s\, Comunidad de Madrid\, 28053\, España
STATUS:CONFIRMED
CATEGORIES:Madrid
END:VEVENT
BEGIN:VEVENT
UID:12925@do.basspistol.org
SUMMARY:Clases de Esgrima
DTSTAMP:20260421T035752Z
DTSTART:20260422T180000Z
DTEND:20260422T200000Z
URL:https://do.basspistol.org/event/clases-de-esgrima
GEO:40.4556691;-3.7015619012329135
LOCATION:CSOA La Enredadera de Tetuán - 5\, Calle de La Coruña\, Cuatro Cam
	inos\, Tetuán\, Madrid\, Área metropolitana de Madrid y Corredor del Henar
	es\, Comunidad de Madrid\, 28020\, España
STATUS:CONFIRMED
CATEGORIES:Madrid
END:VEVENT
BEGIN:VEVENT
UID:12956@do.basspistol.org
SUMMARY:Espacio de acompañamiento vecinal para personas migrantes
DTSTAMP:20260421T035752Z
DTSTART:20260423T160000Z
DTEND:20260423T170000Z
URL:https://do.basspistol.org/event/espacio-de-acompanamiento-vecinal-para-
	personas-migrantes-3
GEO:40.388732;-3.666717
LOCATION:La Villana de Vallekas - Calle Sierra de alquife 12
STATUS:CONFIRMED
CATEGORIES:Madrid
END:VEVENT
BEGIN:VEVENT
UID:12957@do.basspistol.org
SUMMARY:Vente con tu Guitarrra
DTSTAMP:20260421T035752Z
DTSTART:20260423T160000Z
DTEND:20260423T190000Z
URL:https://do.basspistol.org/event/vente-con-tu-guitarrra
GEO:40.3917682;-3.7310561
LOCATION:ESLA Eko - 10\, Calle del Ánade\, San Isidro\, Carabanchel\, Madri
	d\, Área metropolitana de Madrid y Corredor del Henares\, Comunidad de Mad
	rid\, 28019\, EspañaDÍA DE CARRERAS
STATUS:CONFIRMED
CATEGORIES:Madrid
END:VEVENT
BEGIN:VEVENT
UID:12967@do.basspistol.org
SUMMARY:Ritmo y Percusión con Señas
DTSTAMP:20260421T035752Z
DTSTART:20260423T163000Z
DTEND:20260423T181500Z
URL:https://do.basspistol.org/event/ritmo-y-percusion-con-senas
GEO:40.3906518;-3.6657487
LOCATION:La Horizontal - Calle Eduardo Requenas\, nº10\, San Diego\, Puente
	 de Vallecas\, Madrid\, Área metropolitana de Madrid y Corredor del Henare
	s\, Comunidad de Madrid\, 28053\, España
STATUS:CONFIRMED
CATEGORIES:Madrid
END:VEVENT
BEGIN:VEVENT
UID:12406@do.basspistol.org
SUMMARY:Documental: «Palestina una tragedia permanente»
DTSTAMP:20260421T035752Z
DTSTART:20260423T170000Z
DTEND:20260423T190000Z
URL:https://do.basspistol.org/event/documental-palestina-una-tragedia-perma
	nente
LOCATION:Ateneo Libertario Carabanchel Latina - Calle Ánade 10\, 2ª planta.
	 Madrid.
STATUS:CONFIRMED
CATEGORIES:Madrid,Palestina,documental,tragedia
END:VEVENT
BEGIN:VEVENT
UID:12966@do.basspistol.org
SUMMARY:Asamblea Organización Vivienda Tetuán
DTSTAMP:20260421T035752Z
DTSTART:20260423T170000Z
DTEND:20260423T193000Z
URL:https://do.basspistol.org/event/asamblea-organizacion-vivienda-tetuan
GEO:40.4556691;-3.7015619012329135
LOCATION:CSOA La Enredadera de Tetuán - 5\, Calle de La Coruña\, Cuatro Cam
	inos\, Tetuán\, Madrid\, Área metropolitana de Madrid y Corredor del Henar
	es\, Comunidad de Madrid\, 28020\, España
STATUS:CONFIRMED
CATEGORIES:Madrid
END:VEVENT
BEGIN:VEVENT
UID:13070@do.basspistol.org
SUMMARY:Documental: «Palestina una tragedia permanente»
DTSTAMP:20260421T035752Z
DTSTART:20260423T170000Z
DTEND:20260423T193000Z
URL:https://do.basspistol.org/event/documental-palestina-una-tragedia-perma
	nente-1
GEO:40.38897;-3.74569
LOCATION:Ateneo Libertario Carabanchel-Latina (ESLA Eko. 2ª planta Ateneo) 
	- Ateneo Libertario Carabanchel-Latina (ESLA Eko. 2ª planta Ateneo)
STATUS:CONFIRMED
CATEGORIES:Madrid,Palestina,documental,tragedia
END:VEVENT
BEGIN:VEVENT
UID:12644@do.basspistol.org
SUMMARY:3ª Bienal Anarquista de Madrid
DTSTAMP:20260421T035752Z
DTSTART:20260424T093000Z
DTEND:20260426T210000Z
URL:https://do.basspistol.org/event/3a-bienal-anarquista-de-madrid
GEO:40.4556691;-3.7015619012329135
LOCATION:CSOA La Enredadera de Tetuán - 5\, Calle de La Coruña\, Cuatro Cam
	inos\, Tetuán\, Madrid\, Área metropolitana de Madrid y Corredor del Henar
	es\, Comunidad de Madrid\, 28020\, España
STATUS:CONFIRMED
CATEGORIES:Comida vegana,Madrid,Puestos de libros,anarquismo,editoriales,jo
	rnadas
END:VEVENT
BEGIN:VEVENT
UID:12822@do.basspistol.org
SUMMARY:Convocatoria "5 años contra Vivotecnia\, 5 años con los animales"
DTSTAMP:20260421T035752Z
DTSTART:20260424T150000Z
DTEND:20260424T170000Z
URL:https://do.basspistol.org/event/convocatoria-5-anos-contra-vivotecnia-5
	-anos-con-los-animales
LOCATION:Centro Superior de Investigaciones Científicas - c/Serrano 113-123
STATUS:CONFIRMED
CATEGORIES:#CerremosVivotecniaPorLosAnimales #StopAnimalTesting #Antiespeci
	smo #LiberaciónAnimal,Antivivisección,Cerremos Vivotecnia,Madrid,Veganismo
	,antiespecismo
END:VEVENT
BEGIN:VEVENT
UID:13005@do.basspistol.org
SUMMARY:Teatro Terápeutico
DTSTAMP:20260421T035752Z
DTSTART:20260424T160000Z
DTEND:20260424T180000Z
URL:https://do.basspistol.org/event/teatro-terapeutico
GEO:40.3906518;-3.6657487
LOCATION:La Horizontal - Calle Eduardo Requenas\, nº10\, San Diego\, Puente
	 de Vallecas\, Madrid\, Área metropolitana de Madrid y Corredor del Henare
	s\, Comunidad de Madrid\, 28053\, España
STATUS:CONFIRMED
CATEGORIES:Madrid
END:VEVENT
BEGIN:VEVENT
UID:13057@do.basspistol.org
SUMMARY:Grupo de lectura: El Capital
DTSTAMP:20260421T035752Z
DTSTART:20260425T093000Z
DTEND:20260425T113000Z
URL:https://do.basspistol.org/event/grupo-de-lectura-el-capital
GEO:40.40945;-3.70965
LOCATION:CSO La Rosa - Calle Bastero 1
STATUS:CONFIRMED
CATEGORIES:GrupoDeLectura,Madrid,Marxismo
END:VEVENT
BEGIN:VEVENT
UID:12882@do.basspistol.org
SUMMARY:Presentación Goteo Madres protectoras
DTSTAMP:20260421T035752Z
DTSTART:20260425T100000Z
DTEND:20260425T140000Z
URL:https://do.basspistol.org/event/presentacion-goteo-madres-protectoras
GEO:40.388732;-3.666717
LOCATION:La Villana de Vallekas - Calle Sierra de alquife 12
STATUS:CONFIRMED
CATEGORIES:Ariskas,Feminismo,Feministas prospe,Madresprotectoras,Madrid,Pam
	ela Palenciano,Yo si te creo,la laboratoria
END:VEVENT
BEGIN:VEVENT
UID:13028@do.basspistol.org
SUMMARY:Clases de Yoga
DTSTAMP:20260421T035752Z
DTSTART:20260425T100000Z
DTEND:20260425T113000Z
URL:https://do.basspistol.org/event/clases-de-yoga
GEO:40.40945;-3.70965
LOCATION:CSO La Rosa - Calle Bastero 1
STATUS:CONFIRMED
CATEGORIES:Madrid
END:VEVENT
BEGIN:VEVENT
UID:12862@do.basspistol.org
SUMMARY:la cultura es de todas
DTSTAMP:20260421T035752Z
DTSTART:20260425T160000Z
DTEND:20260425T190000Z
URL:https://do.basspistol.org/event/la-cultura-es-de-todas
GEO:40.3887206;-3.6666996
LOCATION:Librería malaletra - Calle Sierra Alquife\, 12
STATUS:CONFIRMED
CATEGORIES:Madrid
END:VEVENT
BEGIN:VEVENT
UID:13042@do.basspistol.org
SUMMARY:Bad Art Club
DTSTAMP:20260421T035752Z
DTSTART:20260425T160000Z
DTEND:20260425T180000Z
URL:https://do.basspistol.org/event/bad-art-club
GEO:40.40945;-3.70965
LOCATION:CSO La Rosa - Calle Bastero 1
STATUS:CONFIRMED
CATEGORIES:Madrid
END:VEVENT
BEGIN:VEVENT
UID:12910@do.basspistol.org
SUMMARY:Baile Social Swing de Barrio
DTSTAMP:20260421T035752Z
DTSTART:20260425T180000Z
DTEND:20260425T200000Z
URL:https://do.basspistol.org/event/baile-social-swing-de-barrio
GEO:40.3906518;-3.6657487
LOCATION:La Horizontal - Calle Eduardo Requenas\, nº10\, San Diego\, Puente
	 de Vallecas\, Madrid\, Área metropolitana de Madrid y Corredor del Henare
	s\, Comunidad de Madrid\, 28053\, España
STATUS:CONFIRMED
CATEGORIES:Baile,La Horizontal,Madrid,Swing,SwingDeBarrio,baile social
END:VEVENT
BEGIN:VEVENT
UID:12448@do.basspistol.org
SUMMARY:Fiesta del árbol en parque Arriaga
DTSTAMP:20260421T035752Z
DTSTART:20260426T090000Z
DTEND:20260426T123000Z
URL:https://do.basspistol.org/event/fiesta-del-arbol-en-parque-arriaga
LOCATION:Parque de Arriaga 29 - Calle Arriaga 29
STATUS:CONFIRMED
CATEGORIES:Madrid
END:VEVENT
BEGIN:VEVENT
UID:12256@do.basspistol.org
SUMMARY:Club de lectura Ariskas: 13 cuentos\, de Luisa Carnés
DTSTAMP:20260421T035752Z
DTSTART:20260426T100000Z
DTEND:20260426T120000Z
URL:https://do.basspistol.org/event/club-de-lectura-ariskas-13-cuentos-de-l
	uisa-carnes
GEO:40.388732;-3.666717
LOCATION:La Villana de Vallekas - Calle Sierra de alquife 12
STATUS:CONFIRMED
CATEGORIES:Ariskas,ClubDeLectura,LaVillana,Madrid
END:VEVENT
BEGIN:VEVENT
UID:12971@do.basspistol.org
SUMMARY:Las Patronas\, documental Más Allá del Sol
DTSTAMP:20260421T035752Z
DTSTART:20260426T160000Z
DTEND:20260426T180000Z
URL:https://do.basspistol.org/event/las-patronas-documental-mas-alla-del-so
	l
LOCATION:Espacio Afro (C/Cáceres\, 49) <M> Delicias - Espacio Afro (C/Cácer
	es\, 49) <M> Delicias
STATUS:CONFIRMED
CATEGORIES:Cinefórum,Madrid,Regularización,migración
END:VEVENT
BEGIN:VEVENT
UID:13088@do.basspistol.org
SUMMARY:Taller de teatro
DTSTAMP:20260421T035752Z
DTSTART:20260427T093000Z
DTEND:20260427T110000Z
URL:https://do.basspistol.org/event/taller-de-teatro-1
GEO:40.4556691;-3.7015619012329135
LOCATION:CSOA La Enredadera de Tetuán - 5\, Calle de La Coruña\, Cuatro Cam
	inos\, Tetuán\, Madrid\, Área metropolitana de Madrid y Corredor del Henar
	es\, Comunidad de Madrid\, 28020\, España
STATUS:CONFIRMED
CATEGORIES:Madrid
END:VEVENT
BEGIN:VEVENT
UID:12922@do.basspistol.org
SUMMARY:Laboratorio de Poesía
DTSTAMP:20260421T035752Z
DTSTART:20260428T170000Z
DTEND:20260428T193000Z
URL:https://do.basspistol.org/event/laboratorio-de-poesia-1
GEO:40.3887206;-3.6666996
LOCATION:Librería malaletra - Calle Sierra Alquife\, 12
STATUS:CONFIRMED
CATEGORIES:Filosofía,Madrid,Poesía,laboratorio
END:VEVENT
BEGIN:VEVENT
UID:12931@do.basspistol.org
SUMMARY:📣🔜 ARGANZUELA ABRE OFICINA DE ATENCIÓN VECINAL CONTRA LOS PISOS TUR
	ÍSTICOS‼️📣
DTSTAMP:20260421T035752Z
DTSTART:20260429T163000Z
DTEND:20260429T183000Z
URL:https://do.basspistol.org/event/arganzuela-abre-oficina-de-atencion-vec
	inal-contra-los-pisos-turisticos-1
GEO:40.403461;-3.7044093
LOCATION:Ateneo La Maliciosa - 12\, Calle de las Peñuelas\, Las Acacias\, A
	rganzuela\, Madrid\, Área metropolitana de Madrid y Corredor del Henares\,
	 Comunidad de Madrid\, 28005\, España
STATUS:CONFIRMED
CATEGORIES:Madrid
END:VEVENT
BEGIN:VEVENT
UID:11969@do.basspistol.org
SUMMARY:Club de Lectura
DTSTAMP:20260421T035752Z
DTSTART:20260430T160000Z
DTEND:20260430T180000Z
URL:https://do.basspistol.org/event/club-de-lectura
GEO:40.40945;-3.70965
LOCATION:CSO La Rosa - Calle Bastero 1
STATUS:CONFIRMED
CATEGORIES:Madrid
END:VEVENT
BEGIN:VEVENT
UID:12161@do.basspistol.org
SUMMARY:Bicicrítica
DTSTAMP:20260421T035752Z
DTSTART:20260430T180000Z
URL:https://do.basspistol.org/event/bicicritica
GEO:40.4195624;-3.6927981
LOCATION:Plaza Cibeles - Recoletos\, Salamanca\, Madrid\, Área metropolitan
	a de Madrid y Corredor del Henares\, Comunidad de Madrid\, 28014\, España
STATUS:CONFIRMED
CATEGORIES:Madrid
END:VEVENT
BEGIN:VEVENT
UID:12996@do.basspistol.org
SUMMARY:1 de Mayo Corredor en Lucha
DTSTAMP:20260421T035752Z
DTSTART:20260501T093000Z
DTEND:20260501T200000Z
URL:https://do.basspistol.org/event/1-de-mayo-corredor-en-lucha
LOCATION:Torrejón de Ardoz - Renfe Torrejón de Ardoz
STATUS:CONFIRMED
CATEGORIES:Madrid
END:VEVENT
BEGIN:VEVENT
UID:12997@do.basspistol.org
SUMMARY:Conciertos 1 de Mayo Corredor en Lucha
DTSTAMP:20260421T035752Z
DTSTART:20260501T123000Z
DTEND:20260501T200000Z
URL:https://do.basspistol.org/event/conciertos-1-de-mayo-corredor-en-lucha
LOCATION:Torrejón de Ardoz - Renfe Torrejón de Ardoz
STATUS:CONFIRMED
CATEGORIES:Madrid
END:VEVENT
BEGIN:VEVENT
UID:12420@do.basspistol.org
SUMMARY:PLINTAM-Do: autodefensa queer
DTSTAMP:20260421T035752Z
DTSTART:20260501T160000Z
DTEND:20260501T180000Z
URL:https://do.basspistol.org/event/plintam-do-autodefensa-queer-1
GEO:40.40945;-3.70965
LOCATION:CSO La Rosa - Calle Bastero 1
STATUS:CONFIRMED
CATEGORIES:Madrid
END:VEVENT
BEGIN:VEVENT
UID:12421@do.basspistol.org
SUMMARY:HACKLAB OPEN DAY
DTSTAMP:20260421T035752Z
DTSTART:20260501T170000Z
DTEND:20260502T080000Z
URL:https://do.basspistol.org/event/hacklab-open-day
GEO:40.4556691;-3.7015619012329135
LOCATION:CSOA La Enredadera de Tetuán - 5\, Calle de La Coruña\, Cuatro Cam
	inos\, Tetuán\, Madrid\, Área metropolitana de Madrid y Corredor del Henar
	es\, Comunidad de Madrid\, 28020\, España
STATUS:CONFIRMED
CATEGORIES:Madrid
END:VEVENT
BEGIN:VEVENT
UID:12800@do.basspistol.org
SUMMARY:1ª Feria de Fanzines Transfeminista La Villana
DTSTAMP:20260421T035752Z
DTSTART:20260502T120000Z
DTEND:20260502T180000Z
URL:https://do.basspistol.org/event/1a-feria-de-fanzines-transfeminista-la-
	villana
GEO:40.3887206;-3.6666996
LOCATION:Librería malaletra - Calle Sierra Alquife\, 12
STATUS:CONFIRMED
CATEGORIES:Madrid
END:VEVENT
BEGIN:VEVENT
UID:12968@do.basspistol.org
SUMMARY:Club de lectura "En el café"
DTSTAMP:20260421T035752Z
DTSTART:20260506T170000Z
DTEND:20260506T190000Z
URL:https://do.basspistol.org/event/club-de-lectura-en-el-cafe
GEO:40.410378;-3.7056227
LOCATION:Local Anarquista Magdalena - C. de las Dos Hermanas\, 11\, 28012 M
	adrid
STATUS:CONFIRMED
CATEGORIES:Madrid
END:VEVENT
BEGIN:VEVENT
UID:13068@do.basspistol.org
SUMMARY:Vivotecnia a Juicio
DTSTAMP:20260421T035752Z
DTSTART:20260507T070000Z
DTEND:20260508T215900Z
URL:https://do.basspistol.org/event/vivotecnia-a-juicio
LOCATION:Juzgados de lo penal - Calle de Julián Camarillo\, 11
STATUS:CONFIRMED
CATEGORIES:Madrid
END:VEVENT
BEGIN:VEVENT
UID:12733@do.basspistol.org
SUMMARY:ART-LAB
DTSTAMP:20260421T035752Z
DTSTART:20260508T160000Z
DTEND:20260508T210000Z
URL:https://do.basspistol.org/event/art-lab
GEO:40.4556691;-3.7015619012329135
LOCATION:CSOA La Enredadera de Tetuán - 5\, Calle de La Coruña\, Cuatro Cam
	inos\, Tetuán\, Madrid\, Área metropolitana de Madrid y Corredor del Henar
	es\, Comunidad de Madrid\, 28020\, España
STATUS:CONFIRMED
CATEGORIES:Madrid
END:VEVENT
BEGIN:VEVENT
UID:12995@do.basspistol.org
SUMMARY:¿PSI? PUES NO. Jornadas hacia la abolición de la psicología
DTSTAMP:20260421T035752Z
DTSTART:20260509T103000Z
DTEND:20260509T210000Z
URL:https://do.basspistol.org/event/psi-pues-no-jornadas-hacia-la-abolicion
	-de-la-psicologia
GEO:40.40945;-3.70965
LOCATION:CSO La Rosa - Calle Bastero 1
STATUS:CONFIRMED
CATEGORIES:Madrid
END:VEVENT
BEGIN:VEVENT
UID:13069@do.basspistol.org
SUMMARY:Manifestación "Vivotecnia a juicio"
DTSTAMP:20260421T035752Z
DTSTART:20260509T160000Z
DTEND:20260509T180000Z
URL:https://do.basspistol.org/event/manifestacion-vivotecnia-a-juicio
LOCATION:Metro Tribunal a Ópera - Plaza Barceló
STATUS:CONFIRMED
CATEGORIES:Madrid
END:VEVENT
BEGIN:VEVENT
UID:13004@do.basspistol.org
SUMMARY:CRAFT NIGHT
DTSTAMP:20260421T035752Z
DTSTART:20260515T160000Z
DTEND:20260515T215500Z
URL:https://do.basspistol.org/event/craft-night-1
GEO:40.4556691;-3.7015619012329135
LOCATION:CSOA La Enredadera de Tetuán - 5\, Calle de La Coruña\, Cuatro Cam
	inos\, Tetuán\, Madrid\, Área metropolitana de Madrid y Corredor del Henar
	es\, Comunidad de Madrid\, 28020\, España
STATUS:CONFIRMED
CATEGORIES:Madrid
END:VEVENT
BEGIN:VEVENT
UID:13027@do.basspistol.org
SUMMARY:Club de Lectura de Cuentos
DTSTAMP:20260421T035752Z
DTSTART:20260516T100000Z
DTEND:20260517T000000Z
URL:https://do.basspistol.org/event/club-de-lectura-de-cuentos-1
GEO:40.3906518;-3.6657487
LOCATION:La Horizontal - Calle Eduardo Requenas\, nº10\, San Diego\, Puente
	 de Vallecas\, Madrid\, Área metropolitana de Madrid y Corredor del Henare
	s\, Comunidad de Madrid\, 28053\, España
STATUS:CONFIRMED
CATEGORIES:Madrid
END:VEVENT
BEGIN:VEVENT
UID:12955@do.basspistol.org
SUMMARY:Taller de reparaciones participativas 'Repair Café'
DTSTAMP:20260421T035752Z
DTSTART:20260521T160000Z
DTEND:20260521T180000Z
URL:https://do.basspistol.org/event/taller-de-reparaciones-participativas-r
	epair-cafe
GEO:40.403461;-3.7044093
LOCATION:Ateneo La Maliciosa - 12\, Calle de las Peñuelas\, Las Acacias\, A
	rganzuela\, Madrid\, Área metropolitana de Madrid y Corredor del Henares\,
	 Comunidad de Madrid\, 28005\, España
STATUS:CONFIRMED
CATEGORIES:Madrid
END:VEVENT
BEGIN:VEVENT
UID:12923@do.basspistol.org
SUMMARY:Jornada Antiespecista
DTSTAMP:20260421T035752Z
DTSTART:20260523T140000Z
DTEND:20260523T210000Z
URL:https://do.basspistol.org/event/jornada-antiespecista
GEO:40.4556691;-3.7015619012329135
LOCATION:CSOA La Enredadera de Tetuán - 5\, Calle de La Coruña\, Cuatro Cam
	inos\, Tetuán\, Madrid\, Área metropolitana de Madrid y Corredor del Henar
	es\, Comunidad de Madrid\, 28020\, España
STATUS:CONFIRMED
CATEGORIES:Comida vegana,Conciertos,Madrid,Mercadillo,Palestina,Transfemini
	sta,Veganismo,antiespecismo,derechos animales,refugios de animales,santuar
	ios de animales
END:VEVENT
END:VCALENDAR
