BEGIN:VCALENDAR
VERSION:2.0
CALSCALE:GREGORIAN
PRODID:adamgibbons/ics
METHOD:PUBLISH
X-PUBLISHED-TTL:PT1H
BEGIN:VEVENT
UID:13127@do.basspistol.org
SUMMARY:Kafeta Benefit "Brigadas Callejeras"
DTSTAMP:20260421T141000Z
DTSTART:20260423T163000Z
URL:https://do.basspistol.org/event/kafeta-benefit-brigadas-callejeras
GEO:41.4101632;2.1834438
LOCATION:CSOA La Revoltosa - 82\, Carrer de Rogent\, el Camp de l'Arpa del 
	Clot\, Barcelona\, 08026
STATUS:CONFIRMED
CATEGORIES:Clot,México,Salud comunitaria,Trabajo sexual,el Clot,internacion
	alisme,kafeta
END:VEVENT
END:VCALENDAR
