BEGIN:VCALENDAR
VERSION:2.0
CALSCALE:GREGORIAN
PRODID:adamgibbons/ics
METHOD:PUBLISH
X-PUBLISHED-TTL:PT1H
BEGIN:VEVENT
UID:13077@do.basspistol.org
SUMMARY:immaginando Utoya
DTSTAMP:20260420T154956Z
DTSTART:20260429T180000Z
DTEND:20260429T210000Z
URL:https://do.basspistol.org/event/immaginando-utoya
LOCATION:Laboratorio Giù dall'Arca - via nicolò dall'arca 43/f
STATUS:CONFIRMED
CATEGORIES:Norvegia,collettivo vento,teatro civile
END:VEVENT
END:VCALENDAR
