BEGIN:VCALENDAR
VERSION:2.0
CALSCALE:GREGORIAN
PRODID:adamgibbons/ics
METHOD:PUBLISH
X-PUBLISHED-TTL:PT1H
BEGIN:VEVENT
UID:13226@do.basspistol.org
SUMMARY:PSICOLOGÍA EN EL ATENEO: «Inteligencia emocional: Taller práctico»
DTSTAMP:20260424T021510Z
DTSTART:20260425T090000Z
DTEND:20260425T110000Z
URL:https://do.basspistol.org/event/psicologia-en-el-ateneo-inteligencia-em
	ocional-taller-practico
GEO:40.38897;-3.74569
LOCATION:Ateneo Libertario Carabanchel-Latina (ESLA Eko. 2ª planta Ateneo) 
	- Ateneo Libertario Carabanchel-Latina (ESLA Eko. 2ª planta Ateneo)
STATUS:CONFIRMED
CATEGORIES:Ateneo,Madrid,Psicología
END:VEVENT
END:VCALENDAR
