BEGIN:VCALENDAR
VERSION:2.0
CALSCALE:GREGORIAN
PRODID:adamgibbons/ics
METHOD:PUBLISH
X-PUBLISHED-TTL:PT1H
BEGIN:VEVENT
UID:12630@do.basspistol.org
SUMMARY:Sea-Eye Lokalgruppe Bonn: Offenes Plenum
DTSTAMP:20260424T194602Z
DTSTART:20260429T173000Z
DTEND:20260429T190000Z
URL:https://do.basspistol.org/event/sea-eye-lokalgruppe-bonn-offenes-plenum
GEO:50.7356;7.0871
LOCATION:Oscar-Romero-Haus Dachboden - Heerstr. 205\, 53111 Bonn
STATUS:CONFIRMED
CATEGORIES:#bonn,#events,#flyinghigh,Plenum,Solidarität
END:VEVENT
BEGIN:VEVENT
UID:12010@do.basspistol.org
SUMMARY:Stimmen der Rebellion - Hex the Patriarchy
DTSTAMP:20260424T194602Z
DTSTART:20260430T170000Z
DTEND:20260430T200000Z
URL:https://do.basspistol.org/event/stimmen-der-rebellion-hex-the-patriarch
	y
GEO:50.7368;7.0867
LOCATION:Kult 41 - Hochstadenring 41\, 53119 Bonn
STATUS:CONFIRMED
CATEGORIES:#bonn,#events,#flyinghigh,Austausch,Feminismus,Kultur,Musik,Soli
	darität
END:VEVENT
BEGIN:VEVENT
UID:12757@do.basspistol.org
SUMMARY:★ 5 Jahre ACS – Soliparty ★
DTSTAMP:20260424T194602Z
DTSTART:20260501T160000Z
DTEND:20260501T200000Z
URL:https://do.basspistol.org/event/star-5-jahre-acs-soliparty-star
GEO:50.7368;7.0867
LOCATION:Kult 41 - Hochstadenring 41\, 53119 Bonn
STATUS:CONFIRMED
CATEGORIES:#bonn,#events,#flyinghigh,Handarbeit,Kollektiv,Konzert,Solidarit
	ät,antifa
END:VEVENT
BEGIN:VEVENT
UID:12523@do.basspistol.org
SUMMARY:Solidarity Beats. Ein Abend für Kopf\, Herz und Haltung.
DTSTAMP:20260424T194602Z
DTSTART:20260508T173000Z
DTEND:20260508T220000Z
URL:https://do.basspistol.org/event/solidarity-beats-ein-abend-fur-kopf-her
	z-und-haltung
GEO:50.7363;7.09342
LOCATION:Namenlos - Bornheimer Straße 20-22
STATUS:CONFIRMED
CATEGORIES:#bonn,#events,#flyinghigh,Konzert,Solidarität,Soliparty,Vortrag
END:VEVENT
END:VCALENDAR
