BEGIN:VCALENDAR
VERSION:2.0
CALSCALE:GREGORIAN
PRODID:adamgibbons/ics
METHOD:PUBLISH
X-PUBLISHED-TTL:PT1H
BEGIN:VEVENT
UID:12335@do.basspistol.org
SUMMARY:BENEFIT GIG FOR VARNING XVIII // VOL. I /
DTSTAMP:20260422T035345Z
DTSTART:20260501T110000Z
URL:https://do.basspistol.org/event/benefit-gig-for-varning-xviii-vol-i
LOCATION:Cabaret Foufounes Electriques - 87 Rue Ste-Catherine E
STATUS:CONFIRMED
CATEGORIES:VARNING,Youth of Nausea
END:VEVENT
END:VCALENDAR
