BEGIN:VCALENDAR
VERSION:2.0
CALSCALE:GREGORIAN
PRODID:adamgibbons/ics
METHOD:PUBLISH
X-PUBLISHED-TTL:PT1H
BEGIN:VEVENT
UID:13215@do.basspistol.org
SUMMARY:Sabato 25 Aprile: Contro lo stato di polizia. CURA\, LOTTA ANARCHIA
DTSTAMP:20260423T225154Z
DTSTART:20260425T080000Z
DTEND:20260425T120000Z
URL:https://do.basspistol.org/event/sabato-25-aprile-contro-lo-stato-di-pol
	izia-cura-lotta-anarchia
GEO:44.5115;11.3471
LOCATION:Piazza Dell'Unità - Bolognina\, Navile\, Bologna\, Emilia-Romagna\
	, Italia
STATUS:CONFIRMED
CATEGORIES:25 aprile,anarchia,resistenza
END:VEVENT
END:VCALENDAR
