BEGIN:VCALENDAR
VERSION:2.0
CALSCALE:GREGORIAN
PRODID:adamgibbons/ics
METHOD:PUBLISH
X-PUBLISHED-TTL:PT1H
BEGIN:VEVENT
UID:12674@do.basspistol.org
SUMMARY:Aniversari de La Raposa
DTSTAMP:20260423T181043Z
DTSTART:20260424T220000Z
DTEND:20260426T100000Z
URL:https://do.basspistol.org/event/aniversari-de-la-raposa
GEO:41.3725137;2.1639527
LOCATION:La Raposa - 47\, Carrer de Tapioles\, el Poble-sec\, Barcelona\, 0
	8004
STATUS:CONFIRMED
CATEGORIES:PobleSec,aniversari,antiespecisme,dj,fanzines,festa,lesbofeminis
	me,transfeminisme,veganisme
END:VEVENT
BEGIN:VEVENT
UID:13209@do.basspistol.org
SUMMARY:10è aniversari de l'Horta Alliberada
DTSTAMP:20260423T181043Z
DTSTART:20260425T100000Z
URL:https://do.basspistol.org/event/10e-aniversari-de-lhorta-alliberada
GEO:41.3745593;2.1319495755322473
LOCATION:L'Horta Alliberada - Carrer de Càceres 15\, Sants\, Barcelona
STATUS:CONFIRMED
CATEGORIES:Sants,aniversari,dinarVegà,hort,musica,vermut
END:VEVENT
BEGIN:VEVENT
UID:13210@do.basspistol.org
SUMMARY:10è aniversari de l'Horta Alliberada
DTSTAMP:20260423T181043Z
DTSTART:20260502T090000Z
DTEND:20260502T193000Z
URL:https://do.basspistol.org/event/10e-aniversari-de-lhorta-alliberada-1
GEO:41.3745593;2.1319495755322473
LOCATION:L'Horta Alliberada - Carrer de Càceres 15\, Sants\, Barcelona
STATUS:CONFIRMED
CATEGORIES:Sants,aniversari,dinarVegà,hort,musica,vermut
END:VEVENT
END:VCALENDAR
