BEGIN:VCALENDAR
VERSION:2.0
CALSCALE:GREGORIAN
PRODID:adamgibbons/ics
METHOD:PUBLISH
X-PUBLISHED-TTL:PT1H
BEGIN:VEVENT
UID:13190@do.basspistol.org
SUMMARY:El Sotrac fa paradeta de llibres per Sant Jordi
DTSTAMP:20260423T122712Z
DTSTART:20260423T130000Z
DTEND:20260423T183000Z
URL:https://do.basspistol.org/event/el-sotrac-fa-paradeta-de-llibres-per-sa
	nt-jordi
GEO:41.4303043;2.188017
LOCATION:La Cinètika - 32\, Rambla de Fabra i Puig\, Sant Andreu\, Barcelon
	a\, 08030
STATUS:CONFIRMED
CATEGORIES:Cultura,LaCinètika,SantAndreu,SantAndreuDelPalomar,SantJordi,aut
	ogestió,biblioteca
END:VEVENT
END:VCALENDAR
