BEGIN:VCALENDAR
VERSION:2.0
CALSCALE:GREGORIAN
PRODID:adamgibbons/ics
METHOD:PUBLISH
X-PUBLISHED-TTL:PT1H
BEGIN:VEVENT
UID:13081@do.basspistol.org
SUMMARY:Labcyberfem 23 aprile\, tavolo nel parco
DTSTAMP:20260420T135342Z
DTSTART:20260423T160000Z
DTEND:20260424T063000Z
URL:https://do.basspistol.org/event/labcyberfem-23-aprile-tavolo-nel-parco
LOCATION:Centro delle donne - Via del Piombo 7
STATUS:CONFIRMED
CATEGORIES:cyberfem,diy,labcyberfem,laboratorio,transfemminismi
END:VEVENT
END:VCALENDAR
