BEGIN:VCALENDAR
VERSION:2.0
CALSCALE:GREGORIAN
PRODID:adamgibbons/ics
METHOD:PUBLISH
X-PUBLISHED-TTL:PT1H
BEGIN:VEVENT
UID:13114@do.basspistol.org
SUMMARY:Solidaritat amb el CzechElbit10
DTSTAMP:20260421T021150Z
DTSTART:20260422T163000Z
DTEND:20260422T190000Z
URL:https://do.basspistol.org/event/solidaritat-amb-el-czechelbit10
LOCATION:Carrer de Mallorca\, 272 - Carrer de Mallorca\, 272 Districte: Eix
	ample Barri: la Dreta de l'Eixample Població: Barcelona
STATUS:CONFIRMED
CATEGORIES:FreePalestine,PalestinaLliure,UAB Acció per Palestina,boicot isr
	ael,czchelbit10,manifestació
END:VEVENT
END:VCALENDAR
