BEGIN:VCALENDAR
VERSION:2.0
CALSCALE:GREGORIAN
PRODID:adamgibbons/ics
METHOD:PUBLISH
X-PUBLISHED-TTL:PT1H
BEGIN:VEVENT
UID:12298@do.basspistol.org
SUMMARY:Exposició: Caravana a fronteres de la UE. Relat de les polítiques m
	igratories europees
DTSTAMP:20260420T160813Z
DTSTART:20260424T183000Z
DTEND:20260426T190000Z
URL:https://do.basspistol.org/event/exposicio-caravana-a-fronteres-de-la-ue
	-relat-de-les-politiques-migratories-europees
GEO:39.4795;-0.377278
LOCATION:Casal Falles Populars i Combatives - Carrer de Garcilaso\, 11\, 46
	003\, València
STATUS:CONFIRMED
CATEGORIES:XXIV Mostra del Llibre Anarquista,antirracisme,ciutat vella,expo
	sició,valencia,valència
END:VEVENT
BEGIN:VEVENT
UID:12795@do.basspistol.org
SUMMARY:Persecució i repressió a les dones durant el franquisme
DTSTAMP:20260420T160813Z
DTSTART:20260425T160000Z
DTEND:20260425T190000Z
URL:https://do.basspistol.org/event/persecucio-i-repressio-a-les-dones-dura
	nt-el-franquisme
GEO:41.3692405;2.1370339
LOCATION:Can Batlló - 19\, Carrer de la Constitució\, la Bordeta\, Barcelon
	a\, 08014
STATUS:CONFIRMED
CATEGORIES:CanBatlló,Sants,debat,documental,exposició,taularodona
END:VEVENT
BEGIN:VEVENT
UID:13089@do.basspistol.org
SUMMARY:'Trabajo para alquilar'\, una exposició de l'obra de Casa De Balnea
	rio
DTSTAMP:20260420T160813Z
DTSTART:20260428T080000Z
DTEND:20260510T200000Z
URL:https://do.basspistol.org/event/trabajo-para-alquilar-una-exposicio-de-
	lobra-de-casa-de-balneario
GEO:41.3692405;2.1370339
LOCATION:Can Batlló - 19\, Carrer de la Constitució\, la Bordeta\, Barcelon
	a\, 08014
STATUS:CONFIRMED
CATEGORIES:anticapitalisme,exposició,habitatge
END:VEVENT
END:VCALENDAR
