BEGIN:VCALENDAR
VERSION:2.0
CALSCALE:GREGORIAN
PRODID:adamgibbons/ics
METHOD:PUBLISH
X-PUBLISHED-TTL:PT1H
BEGIN:VEVENT
UID:13188@do.basspistol.org
SUMMARY:CROSS CHECK\, BREAKNECK (HFX)\, RECOVERY @ P’TIT OURS
DTSTAMP:20260426T002558Z
DTSTART:20260506T233000Z
DTEND:20260507T023000Z
URL:https://do.basspistol.org/event/cross-check-breakneck-hfx-recovery-ptit
	-ours
LOCATION:P’tit Ours - 5585 Avenue du Parc Montreal Quebec
STATUS:CONFIRMED
CATEGORIES:BREAKNECK,CROSS CHECK,Recovery,hardcore,ptit ours
END:VEVENT
BEGIN:VEVENT
UID:12177@do.basspistol.org
SUMMARY:Hardcore-Punk: TIMExHEIST (USA)\, OFFSIDE (D)\, NERVE CENTER (INT)
DTSTAMP:20260426T002558Z
DTSTART:20260512T170000Z
URL:https://do.basspistol.org/event/hardcore-punk-timexheist-usa-offside-d-
	nerve-center-int
LOCATION:venue on bethaniendamm - ask a punk
STATUS:CONFIRMED
CATEGORIES:berlin,diy,hardcore,hardcore punk,post-hardcore,punk,straightedg
	e
END:VEVENT
BEGIN:VEVENT
UID:12364@do.basspistol.org
SUMMARY:Nelligan + Airgun (ON) + Pity Fountain (ON) + Half Past April
DTSTAMP:20260426T002558Z
DTSTART:20260523T003000Z
DTEND:20260523T023000Z
URL:https://do.basspistol.org/event/nelligan-airgun-on-pity-fountain-on-hal
	f-past-april
LOCATION:Batiment 7 - 1900 Rue Le Ber
STATUS:CONFIRMED
CATEGORIES:ALL AGES,B7,Batiment 7,Emo,diy,hardcore,metalcore,post-hardcore,
	screamo,skramz
END:VEVENT
BEGIN:VEVENT
UID:12939@do.basspistol.org
SUMMARY:HABAK + JETSAM + ENDFORM
DTSTAMP:20260426T002558Z
DTSTART:20260529T233000Z
DTEND:20260530T040000Z
URL:https://do.basspistol.org/event/habak-jetsam-endform
LOCATION:Turbo Haüs - 2040 Saint-Denis
STATUS:CONFIRMED
CATEGORIES:ENDFORM,JETSAM,Turbo Haus,bstb,crust,habak,hardcore,powerviolenc
	e,prepare the ground
END:VEVENT
BEGIN:VEVENT
UID:12463@do.basspistol.org
SUMMARY:MATINEE SHOW SATURDAY JUNE 6TH- DEADSKY (Pittsburg/Profane Existenc
	e Records)\, EULOGY (MTL)\, TRAUMATIC STATE (MTL)
DTSTAMP:20260426T002558Z
DTSTART:20260606T180000Z
DTEND:20260606T220000Z
URL:https://do.basspistol.org/event/matinee-show-saturday-june-6th-deadsky-
	pittsburgprofane-existence-records-eulogy-mtl-traumatic-state-mtl
LOCATION:Brasserie des Patriotes - 3363 Ontario Est
STATUS:CONFIRMED
CATEGORIES:crust punk,hardcore,punk
END:VEVENT
BEGIN:VEVENT
UID:12629@do.basspistol.org
SUMMARY:ZORN (Philly)\, SKALLAR (Baltimore)\, PORTAL TOMB\, DUREX\, CASCADE
	S
DTSTAMP:20260426T002558Z
DTSTART:20260717T230000Z
DTEND:20260718T043000Z
URL:https://do.basspistol.org/event/zorn-philly-skallar-baltimore-portal-to
	mb-durex-cascades
GEO:45.5192456;-73.5849089
LOCATION:toscadura - 4388 st laurent\, montreal\, qc
STATUS:CONFIRMED
CATEGORIES:crust,hardcore,metal,punk
END:VEVENT
BEGIN:VEVENT
UID:12866@do.basspistol.org
SUMMARY:Sunami
DTSTAMP:20260426T002558Z
DTSTART:20261123T180000Z
DTEND:20261123T220000Z
URL:https://do.basspistol.org/event/sunami
LOCATION:Cassiopeia - Revaler Str. 99\, 10245 Berlin
STATUS:CONFIRMED
CATEGORIES:beatdown,berlin,diy,hardcore,hardcore punk
END:VEVENT
END:VCALENDAR
