BEGIN:VCALENDAR
VERSION:2.0
CALSCALE:GREGORIAN
PRODID:adamgibbons/ics
METHOD:PUBLISH
X-PUBLISHED-TTL:PT1H
BEGIN:VEVENT
UID:13071@do.basspistol.org
SUMMARY:Grupo de Lectura la TAG
DTSTAMP:20260420T024130Z
DTSTART:20260423T153000Z
DTEND:20260423T173000Z
URL:https://do.basspistol.org/event/grupo-de-lectura-la-tag
GEO:39.4757;-0.377993
LOCATION:CSOA CSN - C/ Cadirers 2\, Ciutat Vella
STATUS:CONFIRMED
CATEGORIES:anarquisme,ciutat vella,lectura,valencia,valència
END:VEVENT
END:VCALENDAR
