BEGIN:VCALENDAR
VERSION:2.0
CALSCALE:GREGORIAN
PRODID:adamgibbons/ics
METHOD:PUBLISH
X-PUBLISHED-TTL:PT1H
BEGIN:VEVENT
UID:13063@do.basspistol.org
SUMMARY:1 Maggio delle Lavoratrici e dei Lavoratori
DTSTAMP:20260420T004825Z
DTSTART:20260501T103000Z
DTEND:20260501T180000Z
URL:https://do.basspistol.org/event/1-maggio-delle-lavoratrici-e-dei-lavora
	tori
LOCATION:La Casona - Nuova Casa del Popolo di Ponticelli - Via di Ponticell
	i 43\, Ponticelli di Malalbergo
STATUS:CONFIRMED
CATEGORIES:1 Maggio,Associazione Primo Moroni,bologna city rockers,concerti
	,libri,musica,pranzo
END:VEVENT
END:VCALENDAR
