BEGIN:VCALENDAR
VERSION:2.0
CALSCALE:GREGORIAN
PRODID:adamgibbons/ics
METHOD:PUBLISH
X-PUBLISHED-TTL:PT1H
BEGIN:VEVENT
UID:13073@do.basspistol.org
SUMMARY:Sessions Live With Quiet Chaos
DTSTAMP:20260420T084527Z
DTSTART:20260421T210000Z
DTEND:20260421T230000Z
URL:https://do.basspistol.org/event/sessions-live-with-quiet-chaos
LOCATION:Online - Online
STATUS:CONFIRMED
CATEGORIES:communityradio,dj,fediradio,fediwave,hou,labr,livestream,music,o
	wncast,radio
END:VEVENT
BEGIN:VEVENT
UID:13076@do.basspistol.org
SUMMARY:New: The Work Shop with Ken Walker
DTSTAMP:20260420T084527Z
DTSTART:20260422T170000Z
DTEND:20260422T190000Z
URL:https://do.basspistol.org/event/new-the-work-shop-with-ken-walker
LOCATION:Online - Online
STATUS:CONFIRMED
CATEGORIES:communityradio,dj,fediradio,fediwave,labr,livestream,music,openf
	orm,owncast,radio
END:VEVENT
BEGIN:VEVENT
UID:13075@do.basspistol.org
SUMMARY:Midweek Workday Chill Mix LIVE with Brother Soul
DTSTAMP:20260420T084527Z
DTSTART:20260422T190000Z
DTEND:20260422T210000Z
URL:https://do.basspistol.org/event/midweek-workday-chill-mix-live-with-bro
	ther-soul
LOCATION:Online - Online
STATUS:CONFIRMED
CATEGORIES:communityradio,dj,fediradio,fediwave,labr,livestream,music,openf
	orm,owncast,radio
END:VEVENT
BEGIN:VEVENT
UID:12970@do.basspistol.org
SUMMARY:NHAM in Concert presents… gribbles
DTSTAMP:20260420T084527Z
DTSTART:20260521T190000Z
DTEND:20260521T200000Z
URL:https://do.basspistol.org/event/nham-in-concert-presents-1
LOCATION:Online - Online
STATUS:CONFIRMED
CATEGORIES:NHAM,NHAM events,NHAM in Concert,TIBtv,electronic music,fediwave
	,live,live music,liveStreaming,livestream,music,owncast
END:VEVENT
BEGIN:VEVENT
UID:12973@do.basspistol.org
SUMMARY:iW2BOTV X Suoni : "THE SPELLING BEE OF THE CENTURY" with Bastard Id
	ol\, Belly Hatcher\, Laughing + MORE
DTSTAMP:20260420T084527Z
DTSTART:20260626T230000Z
DTEND:20260627T030000Z
URL:https://do.basspistol.org/event/iw2botv-x-suoni-the-spelling-bee-of-the
	-century-with-bastard-idol-belly-hatcher-laughing-more
LOCATION:La Sala Rossa - 4848 St Laurent
STATUS:CONFIRMED
CATEGORIES:BASTARD IDOL,BELLY HATCHER,LAUGHING,Suoni Per Il Popolo,experime
	ntal,iw2botv,iwant2beontv,la sala rossa,livestream,performance art,spellin
	g bee,theatre?,worlds most epic spelling bee
END:VEVENT
END:VCALENDAR
