BEGIN:VCALENDAR
VERSION:2.0
CALSCALE:GREGORIAN
PRODID:adamgibbons/ics
METHOD:PUBLISH
X-PUBLISHED-TTL:PT1H
BEGIN:VEVENT
UID:13168@do.basspistol.org
SUMMARY:SENZA CHIEDERE PERMESSO MAGGIO 2026
DTSTAMP:20260422T172046Z
DTSTART:20260507T150000Z
DTEND:20260507T220000Z
URL:https://do.basspistol.org/event/senza-chiedere-permesso-maggio-2026
LOCATION:Parchetto - Tra via Fioravanti e via Delfino Insolera\, in prossim
	ità del campo da basket
STATUS:CONFIRMED
CATEGORIES:Senza chiedere permesso,Tekno,autogestione,banchetti,chiacchera,
	circo,distro,frontiere,mercatino,visual art
END:VEVENT
END:VCALENDAR
