BEGIN:VCALENDAR
VERSION:2.0
CALSCALE:GREGORIAN
PRODID:adamgibbons/ics
METHOD:PUBLISH
X-PUBLISHED-TTL:PT1H
BEGIN:VEVENT
UID:13216@do.basspistol.org
SUMMARY:LA TIGRE DI CARTA - Tracce dei movimenti degli ultimi vent’anni att
	raverso fanzine e riviste
DTSTAMP:20260423T224600Z
DTSTART:20260504T170000Z
DTEND:20260504T210000Z
URL:https://do.basspistol.org/event/la-tigre-di-carta-tracce-dei-movimenti-
	degli-ultimi-ventanni-attraverso-fanzine-e-riviste
GEO:44.4848;11.3564
LOCATION:Circolo Anarchico Berneri - Piazza di Porta Santo Stefano 1
STATUS:CONFIRMED
CATEGORIES:fanzine,mostra,movimenti,riviste
END:VEVENT
END:VCALENDAR
