BEGIN:VCALENDAR
VERSION:2.0
CALSCALE:GREGORIAN
PRODID:adamgibbons/ics
METHOD:PUBLISH
X-PUBLISHED-TTL:PT1H
BEGIN:VEVENT
UID:13076@do.basspistol.org
SUMMARY:New: The Work Shop with Ken Walker
DTSTAMP:20260420T155620Z
DTSTART:20260422T170000Z
DTEND:20260422T190000Z
URL:https://do.basspistol.org/event/new-the-work-shop-with-ken-walker
LOCATION:Online - Online
STATUS:CONFIRMED
CATEGORIES:communityradio,dj,fediradio,fediwave,labr,livestream,music,openf
	orm,owncast,radio
END:VEVENT
BEGIN:VEVENT
UID:13075@do.basspistol.org
SUMMARY:Midweek Workday Chill Mix LIVE with Brother Soul
DTSTAMP:20260420T155620Z
DTSTART:20260422T190000Z
DTEND:20260422T210000Z
URL:https://do.basspistol.org/event/midweek-workday-chill-mix-live-with-bro
	ther-soul
LOCATION:Online - Online
STATUS:CONFIRMED
CATEGORIES:communityradio,dj,fediradio,fediwave,labr,livestream,music,openf
	orm,owncast,radio
END:VEVENT
END:VCALENDAR
