BEGIN:VCALENDAR
VERSION:2.0
CALSCALE:GREGORIAN
PRODID:adamgibbons/ics
METHOD:PUBLISH
X-PUBLISHED-TTL:PT1H
BEGIN:VEVENT
UID:13097@do.basspistol.org
SUMMARY:Gaza calling
DTSTAMP:20260420T213320Z
DTSTART:20260422T150000Z
DTEND:20260422T210000Z
URL:https://do.basspistol.org/event/gaza-calling
LOCATION:Labàs - Vicolo Bolognetti 2
STATUS:CONFIRMED
CATEGORIES:Palestina,gaza,global sumud flotilla,parkour,pizza,skate
END:VEVENT
END:VCALENDAR
