BEGIN:VCALENDAR
VERSION:2.0
CALSCALE:GREGORIAN
PRODID:adamgibbons/ics
METHOD:PUBLISH
X-PUBLISHED-TTL:PT1H
BEGIN:VEVENT
UID:12715@do.basspistol.org
SUMMARY:Pieuvre (post-punk\, bln\, rec release!) + Intro to Film Theory (lo
	fi-pop\, bln)
DTSTAMP:20260424T133316Z
DTSTART:20260424T170000Z
URL:https://do.basspistol.org/event/pieuvre-post-punk-bln-rec-release-intro
	-to-film-theory-lofi-pop-bln
LOCATION:Schokoladen - Ackerstraße 169\, 10115 Berlin
STATUS:CONFIRMED
CATEGORIES:berlin,diy,indie,lofi,post-punk
END:VEVENT
BEGIN:VEVENT
UID:12875@do.basspistol.org
SUMMARY:OOG BOGO (LA) & BUBBLE WRAP TRAP (TLV)
DTSTAMP:20260424T133316Z
DTSTART:20260424T170000Z
URL:https://do.basspistol.org/event/oog-bogo-la-and-bubble-wrap-trap-tlv
LOCATION:loge. - Kinzigstraße 9\, 10247 Berlin
STATUS:CONFIRMED
CATEGORIES:berlin,diy,experimental,indie,post-punk,psychedelic rock,punk,pu
	nkrock
END:VEVENT
BEGIN:VEVENT
UID:11481@do.basspistol.org
SUMMARY:Emeute productions presents: Magnolia Noir - Forêt Noir - Undergrou
	nd Fuzz - Quantum Quasar
DTSTAMP:20260424T133316Z
DTSTART:20260424T230000Z
DTEND:20260425T033000Z
URL:https://do.basspistol.org/event/emeute-productions-presents-magnolia-no
	ir-foret-noir-underground-fuzz-quantum-quasar
LOCATION:Piranha Bar - 680 Sainte-Catherine Ouest
STATUS:CONFIRMED
CATEGORIES:MTLDIY,experimental,noise,post-punk,punk
END:VEVENT
BEGIN:VEVENT
UID:13051@do.basspistol.org
SUMMARY:SuperCheri + Garrrot
DTSTAMP:20260424T133316Z
DTSTART:20260425T070000Z
DTEND:20260425T095500Z
URL:https://do.basspistol.org/event/supercheri-garrrot
LOCATION:Grüner Salon Volksbühne - Linienstraße 227\, 10178 Berlin
STATUS:CONFIRMED
CATEGORIES:berlin,diy,post-punk,punk
END:VEVENT
BEGIN:VEVENT
UID:12506@do.basspistol.org
SUMMARY:LAS MIGRAÑAS + ULTRABONUS + JEJEJE
DTSTAMP:20260424T133316Z
DTSTART:20260425T180000Z
URL:https://do.basspistol.org/event/las-migranas-ultrabonus-jejeje
LOCATION:ask a punk - ask a punk
STATUS:CONFIRMED
CATEGORIES:alternative,berlin,diy,experimental,flowerpunk,indie,post-punk,p
	unk
END:VEVENT
BEGIN:VEVENT
UID:13032@do.basspistol.org
SUMMARY:PAL (U.S.) & UZIMOTO (Bln)
DTSTAMP:20260424T133316Z
DTSTART:20260507T170000Z
URL:https://do.basspistol.org/event/pal-us-and-uzimoto-bln
LOCATION:K19 - Kreutziger Str. 19\, 10247 Berlin-Friedrichshain
STATUS:CONFIRMED
CATEGORIES:berlin,diy,experimental,post-punk,punk,punkrock
END:VEVENT
BEGIN:VEVENT
UID:11423@do.basspistol.org
SUMMARY:Scene Noir\, Oiseau de Proie et Du Desastre
DTSTAMP:20260424T133316Z
DTSTART:20260508T113000Z
DTEND:20260508T150000Z
URL:https://do.basspistol.org/event/scene-noir-oiseau-de-proie-et-du-desast
	re
LOCATION:P'tit Ours - 5589 Park
STATUS:CONFIRMED
CATEGORIES:post-punk
END:VEVENT
BEGIN:VEVENT
UID:12764@do.basspistol.org
SUMMARY:Splizz // Mean // Highway Patrol // M.Fields
DTSTAMP:20260424T133316Z
DTSTART:20260508T173000Z
DTEND:20260508T220000Z
URL:https://do.basspistol.org/event/splizz-mean-highway-patrol-mfields
LOCATION:ask a punk - ask a punk
STATUS:CONFIRMED
CATEGORIES:berlin,country,diy,new wave,post-punk,punk
END:VEVENT
BEGIN:VEVENT
UID:12457@do.basspistol.org
SUMMARY:RESPLANDOR - FOTOFORM
DTSTAMP:20260424T133316Z
DTSTART:20260509T170000Z
DTEND:20260509T200000Z
URL:https://do.basspistol.org/event/resplandor-fotoform
LOCATION:loge. - Kinzigstraße 9\, 10247 Berlin
STATUS:CONFIRMED
CATEGORIES:berlin,diy,experimental,post-punk,shoegazer
END:VEVENT
BEGIN:VEVENT
UID:13033@do.basspistol.org
SUMMARY:HYPER GAL (Jap) & IOCI (Bln) & NERF (Bln)
DTSTAMP:20260424T133316Z
DTSTART:20260509T190000Z
URL:https://do.basspistol.org/event/hyper-gal-jap-and-ioci-bln-and-nerf-bln
LOCATION:Kast8nienk6ller - ask a punk
STATUS:CONFIRMED
CATEGORIES:berlin,diy,experimental,hardcore punk,post-punk,punk
END:VEVENT
BEGIN:VEVENT
UID:12853@do.basspistol.org
SUMMARY:REAL FARMER (post-punk/indie-rock\, nl) + PEPPI P. (garage/indie\, 
	bln)
DTSTAMP:20260424T133316Z
DTSTART:20260511T170000Z
URL:https://do.basspistol.org/event/real-farmer-post-punkindie-rock-nl-pepp
	i-p-garageindie-bln
LOCATION:Schokoladen - Ackerstraße 169\, 10115 Berlin
STATUS:CONFIRMED
CATEGORIES:Garage,berlin,diy,indie-rock,post-punk
END:VEVENT
BEGIN:VEVENT
UID:12695@do.basspistol.org
SUMMARY:PUBLIC CIRCUIT
DTSTAMP:20260424T133316Z
DTSTART:20260524T170000Z
URL:https://do.basspistol.org/event/public-circuit
LOCATION:Schokoladen - Ackerstraße 169\, 10115 Berlin
STATUS:CONFIRMED
CATEGORIES:berlin,diy,experimental,indie,post-punk
END:VEVENT
BEGIN:VEVENT
UID:13044@do.basspistol.org
SUMMARY:COSMIC VOMIT OYÈMI NOIZE & THE SAD GIRLS / SHOEE
DTSTAMP:20260424T133316Z
DTSTART:20260528T180000Z
URL:https://do.basspistol.org/event/cosmic-vomit-oyemi-noize-and-the-sad-gi
	rls-shoee
LOCATION:Neue Zukunft - Alt-Stralau 68\, 10245 Berlin
STATUS:CONFIRMED
CATEGORIES:Noise, Punk,Pop-Punk,berlin,diy,experimental,post-punk
END:VEVENT
BEGIN:VEVENT
UID:12741@do.basspistol.org
SUMMARY:WEIRDWAVES Festival
DTSTAMP:20260424T133316Z
DTSTART:20260529T040000Z
URL:https://do.basspistol.org/event/weirdwaves-festival
LOCATION:Cassiopeia - Revaler Str. 99\, 10245 Berlin
STATUS:CONFIRMED
CATEGORIES:berlin,diy,post-punk,punk
END:VEVENT
BEGIN:VEVENT
UID:11854@do.basspistol.org
SUMMARY:Artifical Go + TBC
DTSTAMP:20260424T133316Z
DTSTART:20260530T180000Z
URL:https://do.basspistol.org/event/artifical-go-tbc
LOCATION:Westgermany - Kotti
STATUS:CONFIRMED
CATEGORIES:berlin,diy,indie,post-punk
END:VEVENT
END:VCALENDAR
