BEGIN:VCALENDAR
VERSION:2.0
CALSCALE:GREGORIAN
PRODID:adamgibbons/ics
METHOD:PUBLISH
X-PUBLISHED-TTL:PT1H
BEGIN:VEVENT
UID:12946@do.basspistol.org
SUMMARY:20/04: Preview Slurp Festival & Cassa Trans Bo
DTSTAMP:20260420T162900Z
DTSTART:20260420T150000Z
DTEND:20260420T215500Z
URL:https://do.basspistol.org/event/2004-preview-slurp-festival-and-cassa-t
	rans-bo
GEO:44.4848;11.3564
LOCATION:Circolo Anarchico Berneri - Piazza di Porta Santo Stefano 1
STATUS:CONFIRMED
CATEGORIES:banchetti,benefit,cena,diy,musica,proiezione,trans
END:VEVENT
BEGIN:VEVENT
UID:12805@do.basspistol.org
SUMMARY:CineTAC #4 - Santi Migranti (Scozia\, 2022\, 24')
DTSTAMP:20260420T162900Z
DTSTART:20260422T180000Z
DTEND:20260422T210000Z
URL:https://do.basspistol.org/event/cinetac-4-santi-migranti-scozia-2022-24
GEO:44.4971;11.3516
LOCATION:Zamboni 38 - 38\, Via Zamboni\, Irnerio\, Santo Stefano\, Bologna\
	, Emilia-Romagna\, 40126\, Italia
STATUS:CONFIRMED
CATEGORIES:CineTac,Santi,TAC,TACxUFO,Temporary anthropological community,an
	tropologia,cineforum,documentario,fotografia,fotografia pubblica,migranti,
	migrazione,migrazioni,presentazione,proiezione,proiezione documentario
END:VEVENT
END:VCALENDAR
