BEGIN:VCALENDAR
VERSION:2.0
CALSCALE:GREGORIAN
PRODID:adamgibbons/ics
METHOD:PUBLISH
X-PUBLISHED-TTL:PT1H
BEGIN:VEVENT
UID:12920@do.basspistol.org
SUMMARY:Concert - Genderlexx + Inkuirsición
DTSTAMP:20260424T173508Z
DTSTART:20260425T190000Z
DTEND:20260425T215500Z
URL:https://do.basspistol.org/event/concert-genderlexx-inkuirsicion
GEO:39.4757;-0.377993
LOCATION:CSOA CSN - C/ Cadirers 2\, Ciutat Vella
STATUS:CONFIRMED
CATEGORIES:XXIV Mostra del Llibre Anarquista,ciutat vella,concert,queer,tra
	nsfeminismes,valencia,valència
END:VEVENT
BEGIN:VEVENT
UID:13242@do.basspistol.org
SUMMARY:La Gozadera
DTSTAMP:20260424T173508Z
DTSTART:20260502T193000Z
DTEND:20260503T010000Z
URL:https://do.basspistol.org/event/la-gozadera
GEO:41.3751714;2.1695843
LOCATION:Sala paral-lel 62 - Avinguda paral-lel 62
STATUS:CONFIRMED
CATEGORIES:PobleSec,bachata,festa,queer,salsa,salsa cuir
END:VEVENT
END:VCALENDAR
