BEGIN:VCALENDAR
VERSION:2.0
CALSCALE:GREGORIAN
PRODID:adamgibbons/ics
METHOD:PUBLISH
X-PUBLISHED-TTL:PT1H
BEGIN:VEVENT
UID:13195@do.basspistol.org
SUMMARY:Regularització: Punt de Suport i Informació Gratuït
DTSTAMP:20260423T152633Z
DTSTART:20260430T160000Z
DTEND:20260430T190000Z
URL:https://do.basspistol.org/event/regularitzacio-punt-de-suport-i-informa
	cio-gratuit
GEO:39.4705;-0.39647
LOCATION:Casal Obrer i Popular de l'Olivereta - C/ Olímpia Arozena Torres\,
	 42\, baix esquerra
STATUS:CONFIRMED
CATEGORIES:olivereta,regularització,valencia,valència
END:VEVENT
BEGIN:VEVENT
UID:13196@do.basspistol.org
SUMMARY:Regularització: Punt de Suport i Informació Gratuït
DTSTAMP:20260423T152633Z
DTSTART:20260507T160000Z
DTEND:20260507T190000Z
URL:https://do.basspistol.org/event/regularitzacio-punt-de-suport-i-informa
	cio-gratuit-1
GEO:39.4705;-0.39647
LOCATION:Casal Obrer i Popular de l'Olivereta - C/ Olímpia Arozena Torres\,
	 42\, baix esquerra
STATUS:CONFIRMED
CATEGORIES:olivereta,regularització,valencia,valència
END:VEVENT
BEGIN:VEVENT
UID:13197@do.basspistol.org
SUMMARY:Regularització: Punt de Suport i Informació Gratuït
DTSTAMP:20260423T152633Z
DTSTART:20260514T160000Z
DTEND:20260514T190000Z
URL:https://do.basspistol.org/event/regularitzacio-punt-de-suport-i-informa
	cio-gratuit-2
GEO:39.4705;-0.39647
LOCATION:Casal Obrer i Popular de l'Olivereta - C/ Olímpia Arozena Torres\,
	 42\, baix esquerra
STATUS:CONFIRMED
CATEGORIES:olivereta,regularització,valencia,valència
END:VEVENT
BEGIN:VEVENT
UID:13198@do.basspistol.org
SUMMARY:Regularització: Punt de Suport i Informació Gratuït
DTSTAMP:20260423T152633Z
DTSTART:20260521T160000Z
DTEND:20260521T190000Z
URL:https://do.basspistol.org/event/regularitzacio-punt-de-suport-i-informa
	cio-gratuit-3
GEO:39.4705;-0.39647
LOCATION:Casal Obrer i Popular de l'Olivereta - C/ Olímpia Arozena Torres\,
	 42\, baix esquerra
STATUS:CONFIRMED
CATEGORIES:olivereta,regularització,valencia,valència
END:VEVENT
BEGIN:VEVENT
UID:13199@do.basspistol.org
SUMMARY:Regularització: Punt de Suport i Informació Gratuït
DTSTAMP:20260423T152633Z
DTSTART:20260528T160000Z
DTEND:20260528T190000Z
URL:https://do.basspistol.org/event/regularitzacio-punt-de-suport-i-informa
	cio-gratuit-4
GEO:39.4705;-0.39647
LOCATION:Casal Obrer i Popular de l'Olivereta - C/ Olímpia Arozena Torres\,
	 42\, baix esquerra
STATUS:CONFIRMED
CATEGORIES:olivereta,regularització,valencia,valència
END:VEVENT
BEGIN:VEVENT
UID:13200@do.basspistol.org
SUMMARY:Regularització: Punt de Suport i Informació Gratuït
DTSTAMP:20260423T152633Z
DTSTART:20260604T160000Z
DTEND:20260604T190000Z
URL:https://do.basspistol.org/event/regularitzacio-punt-de-suport-i-informa
	cio-gratuit-5
GEO:39.4705;-0.39647
LOCATION:Casal Obrer i Popular de l'Olivereta - C/ Olímpia Arozena Torres\,
	 42\, baix esquerra
STATUS:CONFIRMED
CATEGORIES:olivereta,regularització,valencia,valència
END:VEVENT
BEGIN:VEVENT
UID:13202@do.basspistol.org
SUMMARY:Regularització: Punt de Suport i Informació Gratuït
DTSTAMP:20260423T152633Z
DTSTART:20260611T160000Z
DTEND:20260611T190000Z
URL:https://do.basspistol.org/event/regularitzacio-punt-de-suport-i-informa
	cio-gratuit-6
GEO:39.4705;-0.39647
LOCATION:Casal Obrer i Popular de l'Olivereta - C/ Olímpia Arozena Torres\,
	 42\, baix esquerra
STATUS:CONFIRMED
CATEGORIES:olivereta,regularització,valencia,valència
END:VEVENT
BEGIN:VEVENT
UID:13203@do.basspistol.org
SUMMARY:Regularització: Punt de Suport i Informació Gratuït
DTSTAMP:20260423T152633Z
DTSTART:20260618T160000Z
DTEND:20260618T190000Z
URL:https://do.basspistol.org/event/regularitzacio-punt-de-suport-i-informa
	cio-gratuit-7
GEO:39.4705;-0.39647
LOCATION:Casal Obrer i Popular de l'Olivereta - C/ Olímpia Arozena Torres\,
	 42\, baix esquerra
STATUS:CONFIRMED
CATEGORIES:olivereta,regularització,valencia,valència
END:VEVENT
BEGIN:VEVENT
UID:13204@do.basspistol.org
SUMMARY:Regularització: Punt de Suport i Informació Gratuït
DTSTAMP:20260423T152633Z
DTSTART:20260625T160000Z
DTEND:20260625T190000Z
URL:https://do.basspistol.org/event/regularitzacio-punt-de-suport-i-informa
	cio-gratuit-8
GEO:39.4705;-0.39647
LOCATION:Casal Obrer i Popular de l'Olivereta - C/ Olímpia Arozena Torres\,
	 42\, baix esquerra
STATUS:CONFIRMED
CATEGORIES:olivereta,regularització,valencia,valència
END:VEVENT
END:VCALENDAR
