BEGIN:VCALENDAR
VERSION:2.0
CALSCALE:GREGORIAN
PRODID:adamgibbons/ics
METHOD:PUBLISH
X-PUBLISHED-TTL:PT1H
BEGIN:VEVENT
UID:11939@do.basspistol.org
SUMMARY:Deshielo / La Haine / Sorry I'm Late
DTSTAMP:20260422T061504Z
DTSTART:20260423T170000Z
DTEND:20260423T215500Z
URL:https://do.basspistol.org/event/deshielo-la-haine-sorry-im-late
LOCATION:venue on bethaniendamm - ask a punk
STATUS:CONFIRMED
CATEGORIES:Emo,berlin,diy,hardcore punk,pop punk,post-hardcore,screamo
END:VEVENT
BEGIN:VEVENT
UID:12867@do.basspistol.org
SUMMARY:Reading/Concert: Christian Kühne + Dudù Kouaté + Sam Langer + Marty
	 Hiatt
DTSTAMP:20260422T061504Z
DTSTART:20260423T170000Z
DTEND:20260423T230000Z
URL:https://do.basspistol.org/event/readingconcert-christian-kuhne-dudu-kou
	ate-sam-langer-marty-hiatt
LOCATION:Club der Polnischen Versager - Ackerstraße 168\, 10115 Berlin
STATUS:CONFIRMED
CATEGORIES:berlin,diy,fiction,music,percussion,performance,poetry,screamo
END:VEVENT
BEGIN:VEVENT
UID:12504@do.basspistol.org
SUMMARY:LÖRI + LETTERBOMBS + ONLY
DTSTAMP:20260422T061504Z
DTSTART:20260430T170000Z
URL:https://do.basspistol.org/event/lori-letterbombs-only
LOCATION:ask a punk - ask a punk
STATUS:CONFIRMED
CATEGORIES:berlin,diy,emoviolence,hardcore punk,post-hardcore,punk,screamo
END:VEVENT
BEGIN:VEVENT
UID:12364@do.basspistol.org
SUMMARY:Nelligan + Airgun (ON) + Pity Fountain (ON) + Half Past April
DTSTAMP:20260422T061504Z
DTSTART:20260523T003000Z
DTEND:20260523T023000Z
URL:https://do.basspistol.org/event/nelligan-airgun-on-pity-fountain-on-hal
	f-past-april
LOCATION:Batiment 7 - 1900 Rue Le Ber
STATUS:CONFIRMED
CATEGORIES:ALL AGES,B7,Batiment 7,Emo,diy,hardcore,metalcore,post-hardcore,
	screamo,skramz
END:VEVENT
BEGIN:VEVENT
UID:12492@do.basspistol.org
SUMMARY:GUTMACHINE + COMFORT OBJECT + PUBERTY WELL
DTSTAMP:20260422T061504Z
DTSTART:20260524T010000Z
DTEND:20260524T160000Z
URL:https://do.basspistol.org/event/gutmachine-comfort-object-puberty-well
LOCATION:Barfly - 4062A St Laurent\, Montréal\, Québec\, Canada
STATUS:CONFIRMED
CATEGORIES:Emo,PUBERTY WELL,barfly,comfort object,diy,do it together,gutmac
	hine,screamo
END:VEVENT
BEGIN:VEVENT
UID:12820@do.basspistol.org
SUMMARY:OUR WITS + MID DIVERS + ARMOIRE
DTSTAMP:20260422T061504Z
DTSTART:20260621T000000Z
DTEND:20260621T150000Z
URL:https://do.basspistol.org/event/our-wits-mid-diver-armoire
LOCATION:Barfly - 4062A St Laurent\, Montréal\, Québec\, Canada
STATUS:CONFIRMED
CATEGORIES:Emo,Massa Nera,armoire,barfly,ikea,le hub,mark,mid divers,our wi
	ts,screamo
END:VEVENT
END:VCALENDAR
