BEGIN:VCALENDAR
VERSION:2.0
CALSCALE:GREGORIAN
PRODID:adamgibbons/ics
METHOD:PUBLISH
X-PUBLISHED-TTL:PT1H
BEGIN:VEVENT
UID:13049@do.basspistol.org
SUMMARY:Presentació del fanzine "Tan guapa de cara: gordura y sexualidad"
DTSTAMP:20260419T145744Z
DTSTART:20260420T170000Z
DTEND:20260420T190000Z
URL:https://do.basspistol.org/event/presentacio-del-fanzine-tan-guapa-de-ca
	ra-gordura-y-sexualidad
GEO:39.4658;-0.329767
LOCATION:Ateneu Llibertari del Cabanyal - C/ Barraca 57\, baix esquerra
STATUS:CONFIRMED
CATEGORIES:XXIV Mostra del Llibre Anarquista,gordofòbia,sexualitat,valencia
	,valència
END:VEVENT
END:VCALENDAR
