BEGIN:VCALENDAR
VERSION:2.0
CALSCALE:GREGORIAN
PRODID:adamgibbons/ics
METHOD:PUBLISH
X-PUBLISHED-TTL:PT1H
BEGIN:VEVENT
UID:13166@do.basspistol.org
SUMMARY:TALLER DE AUTODEFENSA
DTSTAMP:20260422T171849Z
DTSTART:20260502T090000Z
DTEND:20260508T223000Z
URL:https://do.basspistol.org/event/taller-de-autodefensa-1
GEO:2.18795;41.48578
LOCATION:La Porvenir - Carrer Major 26\, 08110 Montcada i Reixac
STATUS:CONFIRMED
CATEGORIES:La Porvenir,Montcada i Reixac,SantAndreu,autodefensa,taller,taqu
	illaInversa
END:VEVENT
END:VCALENDAR
