BEGIN:VCALENDAR
VERSION:2.0
CALSCALE:GREGORIAN
PRODID:adamgibbons/ics
METHOD:PUBLISH
X-PUBLISHED-TTL:PT1H
BEGIN:VEVENT
UID:13194@do.basspistol.org
SUMMARY:Jornada Arrel Mediterrània — Dinar Popular + Café amb els CLERs + O
	bra de teatre "2030" de la Cía. La Canadiense
DTSTAMP:20260423T164331Z
DTSTART:20260426T120000Z
DTEND:20260426T180000Z
URL:https://do.basspistol.org/event/jornada-arrel-mediterrania-dinar-popula
	r-cafe-amb-els-clers-obra-de-teatre-2030-de-la-cia-la-canadiense
LOCATION:Espai Algrà - Plaça Numero Diez\, 3\, 46910 Alfafar
STATUS:CONFIRMED
CATEGORIES:CLER,dana,dinarVegà,teatre,valencia,valència
END:VEVENT
END:VCALENDAR
