BEGIN:VCALENDAR
VERSION:2.0
CALSCALE:GREGORIAN
PRODID:adamgibbons/ics
METHOD:PUBLISH
X-PUBLISHED-TTL:PT1H
BEGIN:VEVENT
UID:12674@do.basspistol.org
SUMMARY:Aniversari de La Raposa
DTSTAMP:20260424T162806Z
DTSTART:20260424T220000Z
DTEND:20260426T100000Z
URL:https://do.basspistol.org/event/aniversari-de-la-raposa
GEO:41.3725137;2.1639527
LOCATION:La Raposa - 47\, Carrer de Tapioles\, el Poble-sec\, Barcelona\, 0
	8004
STATUS:CONFIRMED
CATEGORIES:PobleSec,aniversari,antiespecisme,dj,fanzines,festa,lesbofeminis
	me,transfeminisme,veganisme
END:VEVENT
BEGIN:VEVENT
UID:13232@do.basspistol.org
SUMMARY:Formació en línia sobre la regularització extraordinària des d'una 
	perspectiva feminista i antiracista
DTSTAMP:20260424T162806Z
DTSTART:20260429T163000Z
DTEND:20260429T180000Z
URL:https://do.basspistol.org/event/formacio-en-linia-sobre-la-regularitzac
	io-extraordinaria-des-duna-perspectiva-feminista-i-antiracista
LOCATION:Online - Online
STATUS:CONFIRMED
CATEGORIES:FemisAnticapis,FemisAnticapisPPCC,RegularizaciónYa,anticapitalis
	me,antiracisme,feminisme,regularització,transfeminisme
END:VEVENT
END:VCALENDAR
