BEGIN:VCALENDAR
VERSION:2.0
CALSCALE:GREGORIAN
PRODID:adamgibbons/ics
METHOD:PUBLISH
X-PUBLISHED-TTL:PT1H
BEGIN:VEVENT
UID:13229@do.basspistol.org
SUMMARY:Abbiamo un problema che si chiama Webuild
DTSTAMP:20260424T160450Z
DTSTART:20260429T160000Z
DTEND:20260429T213000Z
URL:https://do.basspistol.org/event/abbiamo-un-problema-che-si-chiama-webui
	ld
LOCATION:Frazione Traduerivi - -
STATUS:CONFIRMED
CATEGORIES:lotta,notav,valsusa
END:VEVENT
END:VCALENDAR
